BEGIN:VCALENDAR
VERSION:2.0
PRODID:-//Framingham Housing Authority - ECPv6.15.20//NONSGML v1.0//EN
CALSCALE:GREGORIAN
METHOD:PUBLISH
X-ORIGINAL-URL:https://framinghamhousingauthority.org
X-WR-CALDESC:Events for Framingham Housing Authority
REFRESH-INTERVAL;VALUE=DURATION:PT1H
X-Robots-Tag:noindex
X-PUBLISHED-TTL:PT1H
BEGIN:VTIMEZONE
TZID:America/New_York
BEGIN:DAYLIGHT
TZOFFSETFROM:-0500
TZOFFSETTO:-0400
TZNAME:EDT
DTSTART:20190310T070000
END:DAYLIGHT
BEGIN:STANDARD
TZOFFSETFROM:-0400
TZOFFSETTO:-0500
TZNAME:EST
DTSTART:20191103T060000
END:STANDARD
BEGIN:DAYLIGHT
TZOFFSETFROM:-0500
TZOFFSETTO:-0400
TZNAME:EDT
DTSTART:20200308T070000
END:DAYLIGHT
BEGIN:STANDARD
TZOFFSETFROM:-0400
TZOFFSETTO:-0500
TZNAME:EST
DTSTART:20201101T060000
END:STANDARD
BEGIN:DAYLIGHT
TZOFFSETFROM:-0500
TZOFFSETTO:-0400
TZNAME:EDT
DTSTART:20210314T070000
END:DAYLIGHT
BEGIN:STANDARD
TZOFFSETFROM:-0400
TZOFFSETTO:-0500
TZNAME:EST
DTSTART:20211107T060000
END:STANDARD
END:VTIMEZONE
BEGIN:VEVENT
DTSTART;TZID=America/New_York:20200904T120000
DTEND;TZID=America/New_York:20200904T150000
DTSTAMP:20260421T071127
CREATED:20190610T130456Z
LAST-MODIFIED:20220831T170200Z
UID:10003023-1599220800-1599231600@framinghamhousingauthority.org
SUMMARY:Hastings Lunch Bunch with JFS
DESCRIPTION:Lunch Bunch 12-12:45 \nAll are welcome to come and enjoy the company.
URL:https://framinghamhousingauthority.org/calendar-event/hastings-friday-activities-with-jfs/2020-09-04/
LOCATION:Hastings Community Room\, 115 Cochituate Rd\, Framingham\, 01702\, United States
CATEGORIES:Hastings
END:VEVENT
BEGIN:VEVENT
DTSTART;TZID=America/New_York:20200907T130000
DTEND;TZID=America/New_York:20200907T150000
DTSTAMP:20260421T071127
CREATED:20190606T164737Z
LAST-MODIFIED:20190610T140652Z
UID:10002246-1599483600-1599490800@framinghamhousingauthority.org
SUMMARY:John J Brady Monday Bingo
DESCRIPTION:Bingo meets weekly on Monday’s except holidays. 50 cents per card. Caller: David Mayrand
URL:https://framinghamhousingauthority.org/calendar-event/monday-bingo/2020-09-07/
LOCATION:John J Brady Community Room\, 1 John J. Brady Drive\, Framingham\, MA\, 01702\, United States
CATEGORIES:John J Brady
END:VEVENT
BEGIN:VEVENT
DTSTART;TZID=America/New_York:20200910T174500
DTEND;TZID=America/New_York:20200910T200000
DTSTAMP:20260421T071127
CREATED:20190610T121827Z
LAST-MODIFIED:20220831T170036Z
UID:10002525-1599759900-1599768000@framinghamhousingauthority.org
SUMMARY:Hastings Bingo
DESCRIPTION:Open to the public\, light refreshments served. $1 per card.
URL:https://framinghamhousingauthority.org/calendar-event/hastings-bingo-3/2020-09-10/
LOCATION:Hastings Community Room\, 115 Cochituate Rd\, Framingham\, 01702\, United States
END:VEVENT
BEGIN:VEVENT
DTSTART;TZID=America/New_York:20200911T120000
DTEND;TZID=America/New_York:20200911T150000
DTSTAMP:20260421T071127
CREATED:20190610T130456Z
LAST-MODIFIED:20220831T170200Z
UID:10003024-1599825600-1599836400@framinghamhousingauthority.org
SUMMARY:Hastings Lunch Bunch with JFS
DESCRIPTION:Lunch Bunch 12-12:45 \nAll are welcome to come and enjoy the company.
URL:https://framinghamhousingauthority.org/calendar-event/hastings-friday-activities-with-jfs/2020-09-11/
LOCATION:Hastings Community Room\, 115 Cochituate Rd\, Framingham\, 01702\, United States
CATEGORIES:Hastings
END:VEVENT
BEGIN:VEVENT
DTSTART;TZID=America/New_York:20200914T130000
DTEND;TZID=America/New_York:20200914T150000
DTSTAMP:20260421T071127
CREATED:20190606T164737Z
LAST-MODIFIED:20190610T140652Z
UID:10002247-1600088400-1600095600@framinghamhousingauthority.org
SUMMARY:John J Brady Monday Bingo
DESCRIPTION:Bingo meets weekly on Monday’s except holidays. 50 cents per card. Caller: David Mayrand
URL:https://framinghamhousingauthority.org/calendar-event/monday-bingo/2020-09-14/
LOCATION:John J Brady Community Room\, 1 John J. Brady Drive\, Framingham\, MA\, 01702\, United States
CATEGORIES:John J Brady
END:VEVENT
BEGIN:VEVENT
DTSTART;TZID=America/New_York:20200917T174500
DTEND;TZID=America/New_York:20200917T200000
DTSTAMP:20260421T071127
CREATED:20190610T121827Z
LAST-MODIFIED:20220831T170036Z
UID:10002526-1600364700-1600372800@framinghamhousingauthority.org
SUMMARY:Hastings Bingo
DESCRIPTION:Open to the public\, light refreshments served. $1 per card.
URL:https://framinghamhousingauthority.org/calendar-event/hastings-bingo-3/2020-09-17/
LOCATION:Hastings Community Room\, 115 Cochituate Rd\, Framingham\, 01702\, United States
END:VEVENT
BEGIN:VEVENT
DTSTART;TZID=America/New_York:20200918T120000
DTEND;TZID=America/New_York:20200918T150000
DTSTAMP:20260421T071127
CREATED:20190610T130456Z
LAST-MODIFIED:20220831T170200Z
UID:10003025-1600430400-1600441200@framinghamhousingauthority.org
SUMMARY:Hastings Lunch Bunch with JFS
DESCRIPTION:Lunch Bunch 12-12:45 \nAll are welcome to come and enjoy the company.
URL:https://framinghamhousingauthority.org/calendar-event/hastings-friday-activities-with-jfs/2020-09-18/
LOCATION:Hastings Community Room\, 115 Cochituate Rd\, Framingham\, 01702\, United States
CATEGORIES:Hastings
END:VEVENT
BEGIN:VEVENT
DTSTART;TZID=America/New_York:20200921T130000
DTEND;TZID=America/New_York:20200921T150000
DTSTAMP:20260421T071127
CREATED:20190606T164737Z
LAST-MODIFIED:20190610T140652Z
UID:10002248-1600693200-1600700400@framinghamhousingauthority.org
SUMMARY:John J Brady Monday Bingo
DESCRIPTION:Bingo meets weekly on Monday’s except holidays. 50 cents per card. Caller: David Mayrand
URL:https://framinghamhousingauthority.org/calendar-event/monday-bingo/2020-09-21/
LOCATION:John J Brady Community Room\, 1 John J. Brady Drive\, Framingham\, MA\, 01702\, United States
CATEGORIES:John J Brady
END:VEVENT
BEGIN:VEVENT
DTSTART;TZID=America/New_York:20200921T140000
DTEND;TZID=America/New_York:20200921T150000
DTSTAMP:20260421T071127
CREATED:20200803T191407Z
LAST-MODIFIED:20200803T191407Z
UID:10003331-1600696800-1600700400@framinghamhousingauthority.org
SUMMARY:Framingham Annual Plan/Board Meeting
DESCRIPTION:Framingham Annual Plan/Board Meeting \nSept 21st\, 2020 at 2 PM \nPlease Join Our Zoom Meeting: \nLink – https://zoom.us/j/95075107868?pwd=RnN4aHV2bWt4TWJLa3hCNnEvaTF6dz09 \nMeeting ID: 950 7510 7868  \nPasscode: 018102  \n  \n        833 548 0276 US Toll-free  \n        833 548 0282 US Toll-free  \n        877 853 5257 US Toll-free  \n        888 475 4499 US Toll-free  \nMeeting ID: 950 7510 7868  \nPasscode: 018102 \nThe Framingham Housing Authority will receive public comments. \nTo View Our Annual Plan – Click Or Enter The Link Below: \nhttps://tinyurl.com/LHA-MA-AnnualPlan
URL:https://framinghamhousingauthority.org/calendar-event/framingham-annual-plan-board-meeting/
LOCATION:John J Brady Community Room\, 1 John J. Brady Drive\, Framingham\, MA\, 01702\, United States
CATEGORIES:John J Brady
ORGANIZER;CN="Framingham Housing Authority":MAILTO:framinghamhousingauthority@gmail.com
END:VEVENT
BEGIN:VEVENT
DTSTART;TZID=America/New_York:20200924T174500
DTEND;TZID=America/New_York:20200924T200000
DTSTAMP:20260421T071127
CREATED:20190610T121827Z
LAST-MODIFIED:20220831T170036Z
UID:10002527-1600969500-1600977600@framinghamhousingauthority.org
SUMMARY:Hastings Bingo
DESCRIPTION:Open to the public\, light refreshments served. $1 per card.
URL:https://framinghamhousingauthority.org/calendar-event/hastings-bingo-3/2020-09-24/
LOCATION:Hastings Community Room\, 115 Cochituate Rd\, Framingham\, 01702\, United States
END:VEVENT
BEGIN:VEVENT
DTSTART;TZID=America/New_York:20200925T120000
DTEND;TZID=America/New_York:20200925T150000
DTSTAMP:20260421T071127
CREATED:20190610T130456Z
LAST-MODIFIED:20220831T170200Z
UID:10003026-1601035200-1601046000@framinghamhousingauthority.org
SUMMARY:Hastings Lunch Bunch with JFS
DESCRIPTION:Lunch Bunch 12-12:45 \nAll are welcome to come and enjoy the company.
URL:https://framinghamhousingauthority.org/calendar-event/hastings-friday-activities-with-jfs/2020-09-25/
LOCATION:Hastings Community Room\, 115 Cochituate Rd\, Framingham\, 01702\, United States
CATEGORIES:Hastings
END:VEVENT
BEGIN:VEVENT
DTSTART;TZID=America/New_York:20200928T130000
DTEND;TZID=America/New_York:20200928T150000
DTSTAMP:20260421T071127
CREATED:20190606T164737Z
LAST-MODIFIED:20190610T140652Z
UID:10002249-1601298000-1601305200@framinghamhousingauthority.org
SUMMARY:John J Brady Monday Bingo
DESCRIPTION:Bingo meets weekly on Monday’s except holidays. 50 cents per card. Caller: David Mayrand
URL:https://framinghamhousingauthority.org/calendar-event/monday-bingo/2020-09-28/
LOCATION:John J Brady Community Room\, 1 John J. Brady Drive\, Framingham\, MA\, 01702\, United States
CATEGORIES:John J Brady
END:VEVENT
BEGIN:VEVENT
DTSTART;TZID=America/New_York:20201001T174500
DTEND;TZID=America/New_York:20201001T200000
DTSTAMP:20260421T071127
CREATED:20190610T121827Z
LAST-MODIFIED:20220831T170036Z
UID:10002528-1601574300-1601582400@framinghamhousingauthority.org
SUMMARY:Hastings Bingo
DESCRIPTION:Open to the public\, light refreshments served. $1 per card.
URL:https://framinghamhousingauthority.org/calendar-event/hastings-bingo-3/2020-10-01/
LOCATION:Hastings Community Room\, 115 Cochituate Rd\, Framingham\, 01702\, United States
END:VEVENT
BEGIN:VEVENT
DTSTART;TZID=America/New_York:20201002T110000
DTEND;TZID=America/New_York:20201002T120000
DTSTAMP:20260421T071127
CREATED:20220831T181921Z
LAST-MODIFIED:20220831T181921Z
UID:10003276-1601636400-1601640000@framinghamhousingauthority.org
SUMMARY:Hastings Resident Meeting
DESCRIPTION:Come to hear news and updates from Jewish Family Services\, the Callahan Center and Framingham Housing
URL:https://framinghamhousingauthority.org/calendar-event/hastings-resident-meeting/2020-10-02/
LOCATION:Hastings Community Room\, 115 Cochituate Rd\, Framingham\, 01702\, United States
CATEGORIES:Hastings
END:VEVENT
BEGIN:VEVENT
DTSTART;TZID=America/New_York:20201002T120000
DTEND;TZID=America/New_York:20201002T150000
DTSTAMP:20260421T071127
CREATED:20190610T130456Z
LAST-MODIFIED:20220831T170200Z
UID:10003027-1601640000-1601650800@framinghamhousingauthority.org
SUMMARY:Hastings Lunch Bunch with JFS
DESCRIPTION:Lunch Bunch 12-12:45 \nAll are welcome to come and enjoy the company.
URL:https://framinghamhousingauthority.org/calendar-event/hastings-friday-activities-with-jfs/2020-10-02/
LOCATION:Hastings Community Room\, 115 Cochituate Rd\, Framingham\, 01702\, United States
CATEGORIES:Hastings
END:VEVENT
BEGIN:VEVENT
DTSTART;TZID=America/New_York:20201005T130000
DTEND;TZID=America/New_York:20201005T150000
DTSTAMP:20260421T071127
CREATED:20190606T164737Z
LAST-MODIFIED:20190610T140652Z
UID:10002250-1601902800-1601910000@framinghamhousingauthority.org
SUMMARY:John J Brady Monday Bingo
DESCRIPTION:Bingo meets weekly on Monday’s except holidays. 50 cents per card. Caller: David Mayrand
URL:https://framinghamhousingauthority.org/calendar-event/monday-bingo/2020-10-05/
LOCATION:John J Brady Community Room\, 1 John J. Brady Drive\, Framingham\, MA\, 01702\, United States
CATEGORIES:John J Brady
END:VEVENT
BEGIN:VEVENT
DTSTART;TZID=America/New_York:20201008T174500
DTEND;TZID=America/New_York:20201008T200000
DTSTAMP:20260421T071127
CREATED:20190610T121827Z
LAST-MODIFIED:20220831T170036Z
UID:10002529-1602179100-1602187200@framinghamhousingauthority.org
SUMMARY:Hastings Bingo
DESCRIPTION:Open to the public\, light refreshments served. $1 per card.
URL:https://framinghamhousingauthority.org/calendar-event/hastings-bingo-3/2020-10-08/
LOCATION:Hastings Community Room\, 115 Cochituate Rd\, Framingham\, 01702\, United States
END:VEVENT
BEGIN:VEVENT
DTSTART;TZID=America/New_York:20201009T120000
DTEND;TZID=America/New_York:20201009T150000
DTSTAMP:20260421T071127
CREATED:20190610T130456Z
LAST-MODIFIED:20220831T170200Z
UID:10003028-1602244800-1602255600@framinghamhousingauthority.org
SUMMARY:Hastings Lunch Bunch with JFS
DESCRIPTION:Lunch Bunch 12-12:45 \nAll are welcome to come and enjoy the company.
URL:https://framinghamhousingauthority.org/calendar-event/hastings-friday-activities-with-jfs/2020-10-09/
LOCATION:Hastings Community Room\, 115 Cochituate Rd\, Framingham\, 01702\, United States
CATEGORIES:Hastings
END:VEVENT
BEGIN:VEVENT
DTSTART;TZID=America/New_York:20201012T130000
DTEND;TZID=America/New_York:20201012T150000
DTSTAMP:20260421T071127
CREATED:20190606T164737Z
LAST-MODIFIED:20190610T140652Z
UID:10002251-1602507600-1602514800@framinghamhousingauthority.org
SUMMARY:John J Brady Monday Bingo
DESCRIPTION:Bingo meets weekly on Monday’s except holidays. 50 cents per card. Caller: David Mayrand
URL:https://framinghamhousingauthority.org/calendar-event/monday-bingo/2020-10-12/
LOCATION:John J Brady Community Room\, 1 John J. Brady Drive\, Framingham\, MA\, 01702\, United States
CATEGORIES:John J Brady
END:VEVENT
BEGIN:VEVENT
DTSTART;TZID=America/New_York:20201015T174500
DTEND;TZID=America/New_York:20201015T200000
DTSTAMP:20260421T071127
CREATED:20190610T121827Z
LAST-MODIFIED:20220831T170036Z
UID:10002530-1602783900-1602792000@framinghamhousingauthority.org
SUMMARY:Hastings Bingo
DESCRIPTION:Open to the public\, light refreshments served. $1 per card.
URL:https://framinghamhousingauthority.org/calendar-event/hastings-bingo-3/2020-10-15/
LOCATION:Hastings Community Room\, 115 Cochituate Rd\, Framingham\, 01702\, United States
END:VEVENT
BEGIN:VEVENT
DTSTART;TZID=America/New_York:20201016T120000
DTEND;TZID=America/New_York:20201016T150000
DTSTAMP:20260421T071127
CREATED:20190610T130456Z
LAST-MODIFIED:20220831T170200Z
UID:10003029-1602849600-1602860400@framinghamhousingauthority.org
SUMMARY:Hastings Lunch Bunch with JFS
DESCRIPTION:Lunch Bunch 12-12:45 \nAll are welcome to come and enjoy the company.
URL:https://framinghamhousingauthority.org/calendar-event/hastings-friday-activities-with-jfs/2020-10-16/
LOCATION:Hastings Community Room\, 115 Cochituate Rd\, Framingham\, 01702\, United States
CATEGORIES:Hastings
END:VEVENT
BEGIN:VEVENT
DTSTART;TZID=America/New_York:20201019T130000
DTEND;TZID=America/New_York:20201019T150000
DTSTAMP:20260421T071127
CREATED:20190606T164737Z
LAST-MODIFIED:20190610T140652Z
UID:10002252-1603112400-1603119600@framinghamhousingauthority.org
SUMMARY:John J Brady Monday Bingo
DESCRIPTION:Bingo meets weekly on Monday’s except holidays. 50 cents per card. Caller: David Mayrand
URL:https://framinghamhousingauthority.org/calendar-event/monday-bingo/2020-10-19/
LOCATION:John J Brady Community Room\, 1 John J. Brady Drive\, Framingham\, MA\, 01702\, United States
CATEGORIES:John J Brady
END:VEVENT
BEGIN:VEVENT
DTSTART;TZID=America/New_York:20201022T174500
DTEND;TZID=America/New_York:20201022T200000
DTSTAMP:20260421T071127
CREATED:20190610T121827Z
LAST-MODIFIED:20220831T170036Z
UID:10002531-1603388700-1603396800@framinghamhousingauthority.org
SUMMARY:Hastings Bingo
DESCRIPTION:Open to the public\, light refreshments served. $1 per card.
URL:https://framinghamhousingauthority.org/calendar-event/hastings-bingo-3/2020-10-22/
LOCATION:Hastings Community Room\, 115 Cochituate Rd\, Framingham\, 01702\, United States
END:VEVENT
BEGIN:VEVENT
DTSTART;TZID=America/New_York:20201023T120000
DTEND;TZID=America/New_York:20201023T150000
DTSTAMP:20260421T071127
CREATED:20190610T130456Z
LAST-MODIFIED:20220831T170200Z
UID:10003030-1603454400-1603465200@framinghamhousingauthority.org
SUMMARY:Hastings Lunch Bunch with JFS
DESCRIPTION:Lunch Bunch 12-12:45 \nAll are welcome to come and enjoy the company.
URL:https://framinghamhousingauthority.org/calendar-event/hastings-friday-activities-with-jfs/2020-10-23/
LOCATION:Hastings Community Room\, 115 Cochituate Rd\, Framingham\, 01702\, United States
CATEGORIES:Hastings
END:VEVENT
BEGIN:VEVENT
DTSTART;TZID=America/New_York:20201026T130000
DTEND;TZID=America/New_York:20201026T150000
DTSTAMP:20260421T071127
CREATED:20190606T164737Z
LAST-MODIFIED:20190610T140652Z
UID:10002253-1603717200-1603724400@framinghamhousingauthority.org
SUMMARY:John J Brady Monday Bingo
DESCRIPTION:Bingo meets weekly on Monday’s except holidays. 50 cents per card. Caller: David Mayrand
URL:https://framinghamhousingauthority.org/calendar-event/monday-bingo/2020-10-26/
LOCATION:John J Brady Community Room\, 1 John J. Brady Drive\, Framingham\, MA\, 01702\, United States
CATEGORIES:John J Brady
END:VEVENT
BEGIN:VEVENT
DTSTART;TZID=America/New_York:20201029T174500
DTEND;TZID=America/New_York:20201029T200000
DTSTAMP:20260421T071127
CREATED:20190610T121827Z
LAST-MODIFIED:20220831T170036Z
UID:10002532-1603993500-1604001600@framinghamhousingauthority.org
SUMMARY:Hastings Bingo
DESCRIPTION:Open to the public\, light refreshments served. $1 per card.
URL:https://framinghamhousingauthority.org/calendar-event/hastings-bingo-3/2020-10-29/
LOCATION:Hastings Community Room\, 115 Cochituate Rd\, Framingham\, 01702\, United States
END:VEVENT
BEGIN:VEVENT
DTSTART;TZID=America/New_York:20201030T120000
DTEND;TZID=America/New_York:20201030T150000
DTSTAMP:20260421T071127
CREATED:20190610T130456Z
LAST-MODIFIED:20220831T170200Z
UID:10003031-1604059200-1604070000@framinghamhousingauthority.org
SUMMARY:Hastings Lunch Bunch with JFS
DESCRIPTION:Lunch Bunch 12-12:45 \nAll are welcome to come and enjoy the company.
URL:https://framinghamhousingauthority.org/calendar-event/hastings-friday-activities-with-jfs/2020-10-30/
LOCATION:Hastings Community Room\, 115 Cochituate Rd\, Framingham\, 01702\, United States
CATEGORIES:Hastings
END:VEVENT
BEGIN:VEVENT
DTSTART;TZID=America/New_York:20201102T130000
DTEND;TZID=America/New_York:20201102T150000
DTSTAMP:20260421T071127
CREATED:20190606T164737Z
LAST-MODIFIED:20190610T140652Z
UID:10002254-1604322000-1604329200@framinghamhousingauthority.org
SUMMARY:John J Brady Monday Bingo
DESCRIPTION:Bingo meets weekly on Monday’s except holidays. 50 cents per card. Caller: David Mayrand
URL:https://framinghamhousingauthority.org/calendar-event/monday-bingo/2020-11-02/
LOCATION:John J Brady Community Room\, 1 John J. Brady Drive\, Framingham\, MA\, 01702\, United States
CATEGORIES:John J Brady
END:VEVENT
BEGIN:VEVENT
DTSTART;TZID=America/New_York:20201105T174500
DTEND;TZID=America/New_York:20201105T200000
DTSTAMP:20260421T071127
CREATED:20190610T121827Z
LAST-MODIFIED:20220831T170036Z
UID:10002533-1604598300-1604606400@framinghamhousingauthority.org
SUMMARY:Hastings Bingo
DESCRIPTION:Open to the public\, light refreshments served. $1 per card.
URL:https://framinghamhousingauthority.org/calendar-event/hastings-bingo-3/2020-11-05/
LOCATION:Hastings Community Room\, 115 Cochituate Rd\, Framingham\, 01702\, United States
END:VEVENT
BEGIN:VEVENT
DTSTART;TZID=America/New_York:20201106T110000
DTEND;TZID=America/New_York:20201106T120000
DTSTAMP:20260421T071127
CREATED:20220831T181921Z
LAST-MODIFIED:20220831T181921Z
UID:10003277-1604660400-1604664000@framinghamhousingauthority.org
SUMMARY:Hastings Resident Meeting
DESCRIPTION:Come to hear news and updates from Jewish Family Services\, the Callahan Center and Framingham Housing
URL:https://framinghamhousingauthority.org/calendar-event/hastings-resident-meeting/2020-11-06/
LOCATION:Hastings Community Room\, 115 Cochituate Rd\, Framingham\, 01702\, United States
CATEGORIES:Hastings
END:VEVENT
END:VCALENDAR