BEGIN:VCALENDAR
VERSION:2.0
PRODID:-//Framingham Housing Authority - ECPv6.15.20//NONSGML v1.0//EN
CALSCALE:GREGORIAN
METHOD:PUBLISH
X-ORIGINAL-URL:https://framinghamhousingauthority.org
X-WR-CALDESC:Events for Framingham Housing Authority
REFRESH-INTERVAL;VALUE=DURATION:PT1H
X-Robots-Tag:noindex
X-PUBLISHED-TTL:PT1H
BEGIN:VTIMEZONE
TZID:America/New_York
BEGIN:DAYLIGHT
TZOFFSETFROM:-0500
TZOFFSETTO:-0400
TZNAME:EDT
DTSTART:20190310T070000
END:DAYLIGHT
BEGIN:STANDARD
TZOFFSETFROM:-0400
TZOFFSETTO:-0500
TZNAME:EST
DTSTART:20191103T060000
END:STANDARD
BEGIN:DAYLIGHT
TZOFFSETFROM:-0500
TZOFFSETTO:-0400
TZNAME:EDT
DTSTART:20200308T070000
END:DAYLIGHT
BEGIN:STANDARD
TZOFFSETFROM:-0400
TZOFFSETTO:-0500
TZNAME:EST
DTSTART:20201101T060000
END:STANDARD
BEGIN:DAYLIGHT
TZOFFSETFROM:-0500
TZOFFSETTO:-0400
TZNAME:EDT
DTSTART:20210314T070000
END:DAYLIGHT
BEGIN:STANDARD
TZOFFSETFROM:-0400
TZOFFSETTO:-0500
TZNAME:EST
DTSTART:20211107T060000
END:STANDARD
BEGIN:DAYLIGHT
TZOFFSETFROM:-0500
TZOFFSETTO:-0400
TZNAME:EDT
DTSTART:20220313T070000
END:DAYLIGHT
BEGIN:STANDARD
TZOFFSETFROM:-0400
TZOFFSETTO:-0500
TZNAME:EST
DTSTART:20221106T060000
END:STANDARD
END:VTIMEZONE
BEGIN:VEVENT
DTSTART;TZID=America/New_York:20201106T120000
DTEND;TZID=America/New_York:20201106T150000
DTSTAMP:20260423T073243
CREATED:20190610T130456Z
LAST-MODIFIED:20220831T170200Z
UID:10003032-1604664000-1604674800@framinghamhousingauthority.org
SUMMARY:Hastings Lunch Bunch with JFS
DESCRIPTION:Lunch Bunch 12-12:45 \nAll are welcome to come and enjoy the company.
URL:https://framinghamhousingauthority.org/calendar-event/hastings-friday-activities-with-jfs/2020-11-06/
LOCATION:Hastings Community Room\, 115 Cochituate Rd\, Framingham\, 01702\, United States
CATEGORIES:Hastings
END:VEVENT
BEGIN:VEVENT
DTSTART;TZID=America/New_York:20201109T130000
DTEND;TZID=America/New_York:20201109T150000
DTSTAMP:20260423T073243
CREATED:20190606T164737Z
LAST-MODIFIED:20190610T140652Z
UID:10002255-1604926800-1604934000@framinghamhousingauthority.org
SUMMARY:John J Brady Monday Bingo
DESCRIPTION:Bingo meets weekly on Monday’s except holidays. 50 cents per card. Caller: David Mayrand
URL:https://framinghamhousingauthority.org/calendar-event/monday-bingo/2020-11-09/
LOCATION:John J Brady Community Room\, 1 John J. Brady Drive\, Framingham\, MA\, 01702\, United States
CATEGORIES:John J Brady
END:VEVENT
BEGIN:VEVENT
DTSTART;TZID=America/New_York:20201112T174500
DTEND;TZID=America/New_York:20201112T200000
DTSTAMP:20260423T073243
CREATED:20190610T121827Z
LAST-MODIFIED:20220831T170036Z
UID:10002534-1605203100-1605211200@framinghamhousingauthority.org
SUMMARY:Hastings Bingo
DESCRIPTION:Open to the public\, light refreshments served. $1 per card.
URL:https://framinghamhousingauthority.org/calendar-event/hastings-bingo-3/2020-11-12/
LOCATION:Hastings Community Room\, 115 Cochituate Rd\, Framingham\, 01702\, United States
END:VEVENT
BEGIN:VEVENT
DTSTART;TZID=America/New_York:20201113T120000
DTEND;TZID=America/New_York:20201113T150000
DTSTAMP:20260423T073243
CREATED:20190610T130456Z
LAST-MODIFIED:20220831T170200Z
UID:10003033-1605268800-1605279600@framinghamhousingauthority.org
SUMMARY:Hastings Lunch Bunch with JFS
DESCRIPTION:Lunch Bunch 12-12:45 \nAll are welcome to come and enjoy the company.
URL:https://framinghamhousingauthority.org/calendar-event/hastings-friday-activities-with-jfs/2020-11-13/
LOCATION:Hastings Community Room\, 115 Cochituate Rd\, Framingham\, 01702\, United States
CATEGORIES:Hastings
END:VEVENT
BEGIN:VEVENT
DTSTART;TZID=America/New_York:20201116T130000
DTEND;TZID=America/New_York:20201116T150000
DTSTAMP:20260423T073243
CREATED:20190606T164737Z
LAST-MODIFIED:20190610T140652Z
UID:10002256-1605531600-1605538800@framinghamhousingauthority.org
SUMMARY:John J Brady Monday Bingo
DESCRIPTION:Bingo meets weekly on Monday’s except holidays. 50 cents per card. Caller: David Mayrand
URL:https://framinghamhousingauthority.org/calendar-event/monday-bingo/2020-11-16/
LOCATION:John J Brady Community Room\, 1 John J. Brady Drive\, Framingham\, MA\, 01702\, United States
CATEGORIES:John J Brady
END:VEVENT
BEGIN:VEVENT
DTSTART;TZID=America/New_York:20201119T174500
DTEND;TZID=America/New_York:20201119T200000
DTSTAMP:20260423T073243
CREATED:20190610T121827Z
LAST-MODIFIED:20220831T170036Z
UID:10002535-1605807900-1605816000@framinghamhousingauthority.org
SUMMARY:Hastings Bingo
DESCRIPTION:Open to the public\, light refreshments served. $1 per card.
URL:https://framinghamhousingauthority.org/calendar-event/hastings-bingo-3/2020-11-19/
LOCATION:Hastings Community Room\, 115 Cochituate Rd\, Framingham\, 01702\, United States
END:VEVENT
BEGIN:VEVENT
DTSTART;TZID=America/New_York:20201120T120000
DTEND;TZID=America/New_York:20201120T150000
DTSTAMP:20260423T073243
CREATED:20190610T130456Z
LAST-MODIFIED:20220831T170200Z
UID:10003034-1605873600-1605884400@framinghamhousingauthority.org
SUMMARY:Hastings Lunch Bunch with JFS
DESCRIPTION:Lunch Bunch 12-12:45 \nAll are welcome to come and enjoy the company.
URL:https://framinghamhousingauthority.org/calendar-event/hastings-friday-activities-with-jfs/2020-11-20/
LOCATION:Hastings Community Room\, 115 Cochituate Rd\, Framingham\, 01702\, United States
CATEGORIES:Hastings
END:VEVENT
BEGIN:VEVENT
DTSTART;TZID=America/New_York:20201123T130000
DTEND;TZID=America/New_York:20201123T150000
DTSTAMP:20260423T073243
CREATED:20190606T164737Z
LAST-MODIFIED:20190610T140652Z
UID:10002257-1606136400-1606143600@framinghamhousingauthority.org
SUMMARY:John J Brady Monday Bingo
DESCRIPTION:Bingo meets weekly on Monday’s except holidays. 50 cents per card. Caller: David Mayrand
URL:https://framinghamhousingauthority.org/calendar-event/monday-bingo/2020-11-23/
LOCATION:John J Brady Community Room\, 1 John J. Brady Drive\, Framingham\, MA\, 01702\, United States
CATEGORIES:John J Brady
END:VEVENT
BEGIN:VEVENT
DTSTART;TZID=America/New_York:20201126T174500
DTEND;TZID=America/New_York:20201126T200000
DTSTAMP:20260423T073243
CREATED:20190610T121827Z
LAST-MODIFIED:20220831T170036Z
UID:10002536-1606412700-1606420800@framinghamhousingauthority.org
SUMMARY:Hastings Bingo
DESCRIPTION:Open to the public\, light refreshments served. $1 per card.
URL:https://framinghamhousingauthority.org/calendar-event/hastings-bingo-3/2020-11-26/
LOCATION:Hastings Community Room\, 115 Cochituate Rd\, Framingham\, 01702\, United States
END:VEVENT
BEGIN:VEVENT
DTSTART;TZID=America/New_York:20201127T120000
DTEND;TZID=America/New_York:20201127T150000
DTSTAMP:20260423T073243
CREATED:20190610T130456Z
LAST-MODIFIED:20220831T170200Z
UID:10003035-1606478400-1606489200@framinghamhousingauthority.org
SUMMARY:Hastings Lunch Bunch with JFS
DESCRIPTION:Lunch Bunch 12-12:45 \nAll are welcome to come and enjoy the company.
URL:https://framinghamhousingauthority.org/calendar-event/hastings-friday-activities-with-jfs/2020-11-27/
LOCATION:Hastings Community Room\, 115 Cochituate Rd\, Framingham\, 01702\, United States
CATEGORIES:Hastings
END:VEVENT
BEGIN:VEVENT
DTSTART;TZID=America/New_York:20201130T130000
DTEND;TZID=America/New_York:20201130T150000
DTSTAMP:20260423T073243
CREATED:20190606T164737Z
LAST-MODIFIED:20190610T140652Z
UID:10002258-1606741200-1606748400@framinghamhousingauthority.org
SUMMARY:John J Brady Monday Bingo
DESCRIPTION:Bingo meets weekly on Monday’s except holidays. 50 cents per card. Caller: David Mayrand
URL:https://framinghamhousingauthority.org/calendar-event/monday-bingo/2020-11-30/
LOCATION:John J Brady Community Room\, 1 John J. Brady Drive\, Framingham\, MA\, 01702\, United States
CATEGORIES:John J Brady
END:VEVENT
BEGIN:VEVENT
DTSTART;TZID=America/New_York:20201203T174500
DTEND;TZID=America/New_York:20201203T200000
DTSTAMP:20260423T073243
CREATED:20190610T121827Z
LAST-MODIFIED:20220831T170036Z
UID:10002537-1607017500-1607025600@framinghamhousingauthority.org
SUMMARY:Hastings Bingo
DESCRIPTION:Open to the public\, light refreshments served. $1 per card.
URL:https://framinghamhousingauthority.org/calendar-event/hastings-bingo-3/2020-12-03/
LOCATION:Hastings Community Room\, 115 Cochituate Rd\, Framingham\, 01702\, United States
END:VEVENT
BEGIN:VEVENT
DTSTART;TZID=America/New_York:20201204T110000
DTEND;TZID=America/New_York:20201204T120000
DTSTAMP:20260423T073243
CREATED:20220831T181921Z
LAST-MODIFIED:20220831T181921Z
UID:10003278-1607079600-1607083200@framinghamhousingauthority.org
SUMMARY:Hastings Resident Meeting
DESCRIPTION:Come to hear news and updates from Jewish Family Services\, the Callahan Center and Framingham Housing
URL:https://framinghamhousingauthority.org/calendar-event/hastings-resident-meeting/2020-12-04/
LOCATION:Hastings Community Room\, 115 Cochituate Rd\, Framingham\, 01702\, United States
CATEGORIES:Hastings
END:VEVENT
BEGIN:VEVENT
DTSTART;TZID=America/New_York:20201204T120000
DTEND;TZID=America/New_York:20201204T150000
DTSTAMP:20260423T073243
CREATED:20190610T130456Z
LAST-MODIFIED:20220831T170200Z
UID:10003036-1607083200-1607094000@framinghamhousingauthority.org
SUMMARY:Hastings Lunch Bunch with JFS
DESCRIPTION:Lunch Bunch 12-12:45 \nAll are welcome to come and enjoy the company.
URL:https://framinghamhousingauthority.org/calendar-event/hastings-friday-activities-with-jfs/2020-12-04/
LOCATION:Hastings Community Room\, 115 Cochituate Rd\, Framingham\, 01702\, United States
CATEGORIES:Hastings
END:VEVENT
BEGIN:VEVENT
DTSTART;TZID=America/New_York:20201207T130000
DTEND;TZID=America/New_York:20201207T150000
DTSTAMP:20260423T073243
CREATED:20190606T164737Z
LAST-MODIFIED:20190610T140652Z
UID:10002259-1607346000-1607353200@framinghamhousingauthority.org
SUMMARY:John J Brady Monday Bingo
DESCRIPTION:Bingo meets weekly on Monday’s except holidays. 50 cents per card. Caller: David Mayrand
URL:https://framinghamhousingauthority.org/calendar-event/monday-bingo/2020-12-07/
LOCATION:John J Brady Community Room\, 1 John J. Brady Drive\, Framingham\, MA\, 01702\, United States
CATEGORIES:John J Brady
END:VEVENT
BEGIN:VEVENT
DTSTART;TZID=America/New_York:20201210T174500
DTEND;TZID=America/New_York:20201210T200000
DTSTAMP:20260423T073243
CREATED:20190610T121827Z
LAST-MODIFIED:20220831T170036Z
UID:10002538-1607622300-1607630400@framinghamhousingauthority.org
SUMMARY:Hastings Bingo
DESCRIPTION:Open to the public\, light refreshments served. $1 per card.
URL:https://framinghamhousingauthority.org/calendar-event/hastings-bingo-3/2020-12-10/
LOCATION:Hastings Community Room\, 115 Cochituate Rd\, Framingham\, 01702\, United States
END:VEVENT
BEGIN:VEVENT
DTSTART;TZID=America/New_York:20201211T120000
DTEND;TZID=America/New_York:20201211T150000
DTSTAMP:20260423T073243
CREATED:20190610T130456Z
LAST-MODIFIED:20220831T170200Z
UID:10003037-1607688000-1607698800@framinghamhousingauthority.org
SUMMARY:Hastings Lunch Bunch with JFS
DESCRIPTION:Lunch Bunch 12-12:45 \nAll are welcome to come and enjoy the company.
URL:https://framinghamhousingauthority.org/calendar-event/hastings-friday-activities-with-jfs/2020-12-11/
LOCATION:Hastings Community Room\, 115 Cochituate Rd\, Framingham\, 01702\, United States
CATEGORIES:Hastings
END:VEVENT
BEGIN:VEVENT
DTSTART;TZID=America/New_York:20201214T130000
DTEND;TZID=America/New_York:20201214T150000
DTSTAMP:20260423T073243
CREATED:20190606T164737Z
LAST-MODIFIED:20190610T140652Z
UID:10002260-1607950800-1607958000@framinghamhousingauthority.org
SUMMARY:John J Brady Monday Bingo
DESCRIPTION:Bingo meets weekly on Monday’s except holidays. 50 cents per card. Caller: David Mayrand
URL:https://framinghamhousingauthority.org/calendar-event/monday-bingo/2020-12-14/
LOCATION:John J Brady Community Room\, 1 John J. Brady Drive\, Framingham\, MA\, 01702\, United States
CATEGORIES:John J Brady
END:VEVENT
BEGIN:VEVENT
DTSTART;TZID=America/New_York:20201217T174500
DTEND;TZID=America/New_York:20201217T200000
DTSTAMP:20260423T073243
CREATED:20190610T121827Z
LAST-MODIFIED:20220831T170036Z
UID:10002539-1608227100-1608235200@framinghamhousingauthority.org
SUMMARY:Hastings Bingo
DESCRIPTION:Open to the public\, light refreshments served. $1 per card.
URL:https://framinghamhousingauthority.org/calendar-event/hastings-bingo-3/2020-12-17/
LOCATION:Hastings Community Room\, 115 Cochituate Rd\, Framingham\, 01702\, United States
END:VEVENT
BEGIN:VEVENT
DTSTART;TZID=America/New_York:20201218T120000
DTEND;TZID=America/New_York:20201218T150000
DTSTAMP:20260423T073243
CREATED:20190610T130456Z
LAST-MODIFIED:20220831T170200Z
UID:10003038-1608292800-1608303600@framinghamhousingauthority.org
SUMMARY:Hastings Lunch Bunch with JFS
DESCRIPTION:Lunch Bunch 12-12:45 \nAll are welcome to come and enjoy the company.
URL:https://framinghamhousingauthority.org/calendar-event/hastings-friday-activities-with-jfs/2020-12-18/
LOCATION:Hastings Community Room\, 115 Cochituate Rd\, Framingham\, 01702\, United States
CATEGORIES:Hastings
END:VEVENT
BEGIN:VEVENT
DTSTART;TZID=America/New_York:20201221T130000
DTEND;TZID=America/New_York:20201221T150000
DTSTAMP:20260423T073243
CREATED:20190606T164737Z
LAST-MODIFIED:20190610T140652Z
UID:10002261-1608555600-1608562800@framinghamhousingauthority.org
SUMMARY:John J Brady Monday Bingo
DESCRIPTION:Bingo meets weekly on Monday’s except holidays. 50 cents per card. Caller: David Mayrand
URL:https://framinghamhousingauthority.org/calendar-event/monday-bingo/2020-12-21/
LOCATION:John J Brady Community Room\, 1 John J. Brady Drive\, Framingham\, MA\, 01702\, United States
CATEGORIES:John J Brady
END:VEVENT
BEGIN:VEVENT
DTSTART;TZID=America/New_York:20201224T174500
DTEND;TZID=America/New_York:20201224T200000
DTSTAMP:20260423T073243
CREATED:20190610T121827Z
LAST-MODIFIED:20220831T170036Z
UID:10002540-1608831900-1608840000@framinghamhousingauthority.org
SUMMARY:Hastings Bingo
DESCRIPTION:Open to the public\, light refreshments served. $1 per card.
URL:https://framinghamhousingauthority.org/calendar-event/hastings-bingo-3/2020-12-24/
LOCATION:Hastings Community Room\, 115 Cochituate Rd\, Framingham\, 01702\, United States
END:VEVENT
BEGIN:VEVENT
DTSTART;TZID=America/New_York:20201225T120000
DTEND;TZID=America/New_York:20201225T150000
DTSTAMP:20260423T073243
CREATED:20190610T130456Z
LAST-MODIFIED:20220831T170200Z
UID:10003039-1608897600-1608908400@framinghamhousingauthority.org
SUMMARY:Hastings Lunch Bunch with JFS
DESCRIPTION:Lunch Bunch 12-12:45 \nAll are welcome to come and enjoy the company.
URL:https://framinghamhousingauthority.org/calendar-event/hastings-friday-activities-with-jfs/2020-12-25/
LOCATION:Hastings Community Room\, 115 Cochituate Rd\, Framingham\, 01702\, United States
CATEGORIES:Hastings
END:VEVENT
BEGIN:VEVENT
DTSTART;TZID=America/New_York:20201228T130000
DTEND;TZID=America/New_York:20201228T150000
DTSTAMP:20260423T073243
CREATED:20190606T164737Z
LAST-MODIFIED:20190610T140652Z
UID:10002262-1609160400-1609167600@framinghamhousingauthority.org
SUMMARY:John J Brady Monday Bingo
DESCRIPTION:Bingo meets weekly on Monday’s except holidays. 50 cents per card. Caller: David Mayrand
URL:https://framinghamhousingauthority.org/calendar-event/monday-bingo/2020-12-28/
LOCATION:John J Brady Community Room\, 1 John J. Brady Drive\, Framingham\, MA\, 01702\, United States
CATEGORIES:John J Brady
END:VEVENT
BEGIN:VEVENT
DTSTART;TZID=America/New_York:20201231T174500
DTEND;TZID=America/New_York:20201231T200000
DTSTAMP:20260423T073243
CREATED:20190610T121827Z
LAST-MODIFIED:20220831T170036Z
UID:10002541-1609436700-1609444800@framinghamhousingauthority.org
SUMMARY:Hastings Bingo
DESCRIPTION:Open to the public\, light refreshments served. $1 per card.
URL:https://framinghamhousingauthority.org/calendar-event/hastings-bingo-3/2020-12-31/
LOCATION:Hastings Community Room\, 115 Cochituate Rd\, Framingham\, 01702\, United States
END:VEVENT
BEGIN:VEVENT
DTSTART;TZID=America/New_York:20210101T110000
DTEND;TZID=America/New_York:20210101T120000
DTSTAMP:20260423T073243
CREATED:20220831T181921Z
LAST-MODIFIED:20220831T181921Z
UID:10003279-1609498800-1609502400@framinghamhousingauthority.org
SUMMARY:Hastings Resident Meeting
DESCRIPTION:Come to hear news and updates from Jewish Family Services\, the Callahan Center and Framingham Housing
URL:https://framinghamhousingauthority.org/calendar-event/hastings-resident-meeting/2021-01-01/
LOCATION:Hastings Community Room\, 115 Cochituate Rd\, Framingham\, 01702\, United States
CATEGORIES:Hastings
END:VEVENT
BEGIN:VEVENT
DTSTART;TZID=America/New_York:20210101T120000
DTEND;TZID=America/New_York:20210101T150000
DTSTAMP:20260423T073243
CREATED:20190610T130456Z
LAST-MODIFIED:20220831T170200Z
UID:10003040-1609502400-1609513200@framinghamhousingauthority.org
SUMMARY:Hastings Lunch Bunch with JFS
DESCRIPTION:Lunch Bunch 12-12:45 \nAll are welcome to come and enjoy the company.
URL:https://framinghamhousingauthority.org/calendar-event/hastings-friday-activities-with-jfs/2021-01-01/
LOCATION:Hastings Community Room\, 115 Cochituate Rd\, Framingham\, 01702\, United States
CATEGORIES:Hastings
END:VEVENT
BEGIN:VEVENT
DTSTART;TZID=America/New_York:20210104T130000
DTEND;TZID=America/New_York:20210104T150000
DTSTAMP:20260423T073243
CREATED:20190606T164737Z
LAST-MODIFIED:20190610T140652Z
UID:10002263-1609765200-1609772400@framinghamhousingauthority.org
SUMMARY:John J Brady Monday Bingo
DESCRIPTION:Bingo meets weekly on Monday’s except holidays. 50 cents per card. Caller: David Mayrand
URL:https://framinghamhousingauthority.org/calendar-event/monday-bingo/2021-01-04/
LOCATION:John J Brady Community Room\, 1 John J. Brady Drive\, Framingham\, MA\, 01702\, United States
CATEGORIES:John J Brady
END:VEVENT
BEGIN:VEVENT
DTSTART;TZID=America/New_York:20210107T174500
DTEND;TZID=America/New_York:20210107T200000
DTSTAMP:20260423T073243
CREATED:20190610T121827Z
LAST-MODIFIED:20220831T170036Z
UID:10002542-1610041500-1610049600@framinghamhousingauthority.org
SUMMARY:Hastings Bingo
DESCRIPTION:Open to the public\, light refreshments served. $1 per card.
URL:https://framinghamhousingauthority.org/calendar-event/hastings-bingo-3/2021-01-07/
LOCATION:Hastings Community Room\, 115 Cochituate Rd\, Framingham\, 01702\, United States
END:VEVENT
BEGIN:VEVENT
DTSTART;TZID=America/New_York:20210108T120000
DTEND;TZID=America/New_York:20210108T150000
DTSTAMP:20260423T073243
CREATED:20190610T130456Z
LAST-MODIFIED:20220831T170200Z
UID:10003041-1610107200-1610118000@framinghamhousingauthority.org
SUMMARY:Hastings Lunch Bunch with JFS
DESCRIPTION:Lunch Bunch 12-12:45 \nAll are welcome to come and enjoy the company.
URL:https://framinghamhousingauthority.org/calendar-event/hastings-friday-activities-with-jfs/2021-01-08/
LOCATION:Hastings Community Room\, 115 Cochituate Rd\, Framingham\, 01702\, United States
CATEGORIES:Hastings
END:VEVENT
END:VCALENDAR