BEGIN:VCALENDAR
VERSION:2.0
PRODID:-//Framingham Housing Authority - ECPv6.15.20//NONSGML v1.0//EN
CALSCALE:GREGORIAN
METHOD:PUBLISH
X-ORIGINAL-URL:https://framinghamhousingauthority.org
X-WR-CALDESC:Events for Framingham Housing Authority
REFRESH-INTERVAL;VALUE=DURATION:PT1H
X-Robots-Tag:noindex
X-PUBLISHED-TTL:PT1H
BEGIN:VTIMEZONE
TZID:America/New_York
BEGIN:DAYLIGHT
TZOFFSETFROM:-0500
TZOFFSETTO:-0400
TZNAME:EDT
DTSTART:20220313T070000
END:DAYLIGHT
BEGIN:STANDARD
TZOFFSETFROM:-0400
TZOFFSETTO:-0500
TZNAME:EST
DTSTART:20221106T060000
END:STANDARD
BEGIN:DAYLIGHT
TZOFFSETFROM:-0500
TZOFFSETTO:-0400
TZNAME:EDT
DTSTART:20230312T070000
END:DAYLIGHT
BEGIN:STANDARD
TZOFFSETFROM:-0400
TZOFFSETTO:-0500
TZNAME:EST
DTSTART:20231105T060000
END:STANDARD
BEGIN:DAYLIGHT
TZOFFSETFROM:-0500
TZOFFSETTO:-0400
TZNAME:EDT
DTSTART:20240310T070000
END:DAYLIGHT
BEGIN:STANDARD
TZOFFSETFROM:-0400
TZOFFSETTO:-0500
TZNAME:EST
DTSTART:20241103T060000
END:STANDARD
BEGIN:DAYLIGHT
TZOFFSETFROM:-0500
TZOFFSETTO:-0400
TZNAME:EDT
DTSTART:20250309T070000
END:DAYLIGHT
BEGIN:STANDARD
TZOFFSETFROM:-0400
TZOFFSETTO:-0500
TZNAME:EST
DTSTART:20251102T060000
END:STANDARD
END:VTIMEZONE
BEGIN:VEVENT
DTSTART;TZID=America/New_York:20240422T130000
DTEND;TZID=America/New_York:20240422T150000
DTSTAMP:20260422T124536
CREATED:20190606T164737Z
LAST-MODIFIED:20190610T140652Z
UID:10002435-1713790800-1713798000@framinghamhousingauthority.org
SUMMARY:John J Brady Monday Bingo
DESCRIPTION:Bingo meets weekly on Monday’s except holidays. 50 cents per card. Caller: David Mayrand
URL:https://framinghamhousingauthority.org/calendar-event/monday-bingo/2024-04-22/
LOCATION:John J Brady Community Room\, 1 John J. Brady Drive\, Framingham\, MA\, 01702\, United States
CATEGORIES:John J Brady
END:VEVENT
BEGIN:VEVENT
DTSTART;TZID=America/New_York:20240415T130000
DTEND;TZID=America/New_York:20240415T150000
DTSTAMP:20260422T124536
CREATED:20190606T164737Z
LAST-MODIFIED:20190610T140652Z
UID:10002434-1713186000-1713193200@framinghamhousingauthority.org
SUMMARY:John J Brady Monday Bingo
DESCRIPTION:Bingo meets weekly on Monday’s except holidays. 50 cents per card. Caller: David Mayrand
URL:https://framinghamhousingauthority.org/calendar-event/monday-bingo/2024-04-15/
LOCATION:John J Brady Community Room\, 1 John J. Brady Drive\, Framingham\, MA\, 01702\, United States
CATEGORIES:John J Brady
END:VEVENT
BEGIN:VEVENT
DTSTART;TZID=America/New_York:20240408T130000
DTEND;TZID=America/New_York:20240408T150000
DTSTAMP:20260422T124536
CREATED:20190606T164737Z
LAST-MODIFIED:20190610T140652Z
UID:10002433-1712581200-1712588400@framinghamhousingauthority.org
SUMMARY:John J Brady Monday Bingo
DESCRIPTION:Bingo meets weekly on Monday’s except holidays. 50 cents per card. Caller: David Mayrand
URL:https://framinghamhousingauthority.org/calendar-event/monday-bingo/2024-04-08/
LOCATION:John J Brady Community Room\, 1 John J. Brady Drive\, Framingham\, MA\, 01702\, United States
CATEGORIES:John J Brady
END:VEVENT
BEGIN:VEVENT
DTSTART;TZID=America/New_York:20240401T130000
DTEND;TZID=America/New_York:20240401T150000
DTSTAMP:20260422T124536
CREATED:20190606T164737Z
LAST-MODIFIED:20190610T140652Z
UID:10002432-1711976400-1711983600@framinghamhousingauthority.org
SUMMARY:John J Brady Monday Bingo
DESCRIPTION:Bingo meets weekly on Monday’s except holidays. 50 cents per card. Caller: David Mayrand
URL:https://framinghamhousingauthority.org/calendar-event/monday-bingo/2024-04-01/
LOCATION:John J Brady Community Room\, 1 John J. Brady Drive\, Framingham\, MA\, 01702\, United States
CATEGORIES:John J Brady
END:VEVENT
BEGIN:VEVENT
DTSTART;TZID=America/New_York:20240325T130000
DTEND;TZID=America/New_York:20240325T150000
DTSTAMP:20260422T124536
CREATED:20190606T164737Z
LAST-MODIFIED:20190610T140652Z
UID:10002431-1711371600-1711378800@framinghamhousingauthority.org
SUMMARY:John J Brady Monday Bingo
DESCRIPTION:Bingo meets weekly on Monday’s except holidays. 50 cents per card. Caller: David Mayrand
URL:https://framinghamhousingauthority.org/calendar-event/monday-bingo/2024-03-25/
LOCATION:John J Brady Community Room\, 1 John J. Brady Drive\, Framingham\, MA\, 01702\, United States
CATEGORIES:John J Brady
END:VEVENT
BEGIN:VEVENT
DTSTART;TZID=America/New_York:20240318T130000
DTEND;TZID=America/New_York:20240318T150000
DTSTAMP:20260422T124536
CREATED:20190606T164737Z
LAST-MODIFIED:20190610T140652Z
UID:10002430-1710766800-1710774000@framinghamhousingauthority.org
SUMMARY:John J Brady Monday Bingo
DESCRIPTION:Bingo meets weekly on Monday’s except holidays. 50 cents per card. Caller: David Mayrand
URL:https://framinghamhousingauthority.org/calendar-event/monday-bingo/2024-03-18/
LOCATION:John J Brady Community Room\, 1 John J. Brady Drive\, Framingham\, MA\, 01702\, United States
CATEGORIES:John J Brady
END:VEVENT
BEGIN:VEVENT
DTSTART;TZID=America/New_York:20240311T130000
DTEND;TZID=America/New_York:20240311T150000
DTSTAMP:20260422T124536
CREATED:20190606T164737Z
LAST-MODIFIED:20190610T140652Z
UID:10002429-1710162000-1710169200@framinghamhousingauthority.org
SUMMARY:John J Brady Monday Bingo
DESCRIPTION:Bingo meets weekly on Monday’s except holidays. 50 cents per card. Caller: David Mayrand
URL:https://framinghamhousingauthority.org/calendar-event/monday-bingo/2024-03-11/
LOCATION:John J Brady Community Room\, 1 John J. Brady Drive\, Framingham\, MA\, 01702\, United States
CATEGORIES:John J Brady
END:VEVENT
BEGIN:VEVENT
DTSTART;TZID=America/New_York:20240304T130000
DTEND;TZID=America/New_York:20240304T150000
DTSTAMP:20260422T124536
CREATED:20190606T164737Z
LAST-MODIFIED:20190610T140652Z
UID:10002428-1709557200-1709564400@framinghamhousingauthority.org
SUMMARY:John J Brady Monday Bingo
DESCRIPTION:Bingo meets weekly on Monday’s except holidays. 50 cents per card. Caller: David Mayrand
URL:https://framinghamhousingauthority.org/calendar-event/monday-bingo/2024-03-04/
LOCATION:John J Brady Community Room\, 1 John J. Brady Drive\, Framingham\, MA\, 01702\, United States
CATEGORIES:John J Brady
END:VEVENT
BEGIN:VEVENT
DTSTART;TZID=America/New_York:20240226T130000
DTEND;TZID=America/New_York:20240226T150000
DTSTAMP:20260422T124536
CREATED:20190606T164737Z
LAST-MODIFIED:20190610T140652Z
UID:10002427-1708952400-1708959600@framinghamhousingauthority.org
SUMMARY:John J Brady Monday Bingo
DESCRIPTION:Bingo meets weekly on Monday’s except holidays. 50 cents per card. Caller: David Mayrand
URL:https://framinghamhousingauthority.org/calendar-event/monday-bingo/2024-02-26/
LOCATION:John J Brady Community Room\, 1 John J. Brady Drive\, Framingham\, MA\, 01702\, United States
CATEGORIES:John J Brady
END:VEVENT
BEGIN:VEVENT
DTSTART;TZID=America/New_York:20240219T130000
DTEND;TZID=America/New_York:20240219T150000
DTSTAMP:20260422T124536
CREATED:20190606T164737Z
LAST-MODIFIED:20190610T140652Z
UID:10002426-1708347600-1708354800@framinghamhousingauthority.org
SUMMARY:John J Brady Monday Bingo
DESCRIPTION:Bingo meets weekly on Monday’s except holidays. 50 cents per card. Caller: David Mayrand
URL:https://framinghamhousingauthority.org/calendar-event/monday-bingo/2024-02-19/
LOCATION:John J Brady Community Room\, 1 John J. Brady Drive\, Framingham\, MA\, 01702\, United States
CATEGORIES:John J Brady
END:VEVENT
BEGIN:VEVENT
DTSTART;TZID=America/New_York:20240212T130000
DTEND;TZID=America/New_York:20240212T150000
DTSTAMP:20260422T124536
CREATED:20190606T164737Z
LAST-MODIFIED:20190610T140652Z
UID:10002425-1707742800-1707750000@framinghamhousingauthority.org
SUMMARY:John J Brady Monday Bingo
DESCRIPTION:Bingo meets weekly on Monday’s except holidays. 50 cents per card. Caller: David Mayrand
URL:https://framinghamhousingauthority.org/calendar-event/monday-bingo/2024-02-12/
LOCATION:John J Brady Community Room\, 1 John J. Brady Drive\, Framingham\, MA\, 01702\, United States
CATEGORIES:John J Brady
END:VEVENT
BEGIN:VEVENT
DTSTART;TZID=America/New_York:20240205T130000
DTEND;TZID=America/New_York:20240205T150000
DTSTAMP:20260422T124536
CREATED:20190606T164737Z
LAST-MODIFIED:20190610T140652Z
UID:10002424-1707138000-1707145200@framinghamhousingauthority.org
SUMMARY:John J Brady Monday Bingo
DESCRIPTION:Bingo meets weekly on Monday’s except holidays. 50 cents per card. Caller: David Mayrand
URL:https://framinghamhousingauthority.org/calendar-event/monday-bingo/2024-02-05/
LOCATION:John J Brady Community Room\, 1 John J. Brady Drive\, Framingham\, MA\, 01702\, United States
CATEGORIES:John J Brady
END:VEVENT
BEGIN:VEVENT
DTSTART;TZID=America/New_York:20240129T130000
DTEND;TZID=America/New_York:20240129T150000
DTSTAMP:20260422T124536
CREATED:20190606T164737Z
LAST-MODIFIED:20190610T140652Z
UID:10002423-1706533200-1706540400@framinghamhousingauthority.org
SUMMARY:John J Brady Monday Bingo
DESCRIPTION:Bingo meets weekly on Monday’s except holidays. 50 cents per card. Caller: David Mayrand
URL:https://framinghamhousingauthority.org/calendar-event/monday-bingo/2024-01-29/
LOCATION:John J Brady Community Room\, 1 John J. Brady Drive\, Framingham\, MA\, 01702\, United States
CATEGORIES:John J Brady
END:VEVENT
BEGIN:VEVENT
DTSTART;TZID=America/New_York:20240122T130000
DTEND;TZID=America/New_York:20240122T150000
DTSTAMP:20260422T124536
CREATED:20190606T164737Z
LAST-MODIFIED:20190610T140652Z
UID:10002422-1705928400-1705935600@framinghamhousingauthority.org
SUMMARY:John J Brady Monday Bingo
DESCRIPTION:Bingo meets weekly on Monday’s except holidays. 50 cents per card. Caller: David Mayrand
URL:https://framinghamhousingauthority.org/calendar-event/monday-bingo/2024-01-22/
LOCATION:John J Brady Community Room\, 1 John J. Brady Drive\, Framingham\, MA\, 01702\, United States
CATEGORIES:John J Brady
END:VEVENT
BEGIN:VEVENT
DTSTART;TZID=America/New_York:20240115T130000
DTEND;TZID=America/New_York:20240115T150000
DTSTAMP:20260422T124536
CREATED:20190606T164737Z
LAST-MODIFIED:20190610T140652Z
UID:10002421-1705323600-1705330800@framinghamhousingauthority.org
SUMMARY:John J Brady Monday Bingo
DESCRIPTION:Bingo meets weekly on Monday’s except holidays. 50 cents per card. Caller: David Mayrand
URL:https://framinghamhousingauthority.org/calendar-event/monday-bingo/2024-01-15/
LOCATION:John J Brady Community Room\, 1 John J. Brady Drive\, Framingham\, MA\, 01702\, United States
CATEGORIES:John J Brady
END:VEVENT
BEGIN:VEVENT
DTSTART;TZID=America/New_York:20240108T130000
DTEND;TZID=America/New_York:20240108T150000
DTSTAMP:20260422T124536
CREATED:20190606T164737Z
LAST-MODIFIED:20190610T140652Z
UID:10002420-1704718800-1704726000@framinghamhousingauthority.org
SUMMARY:John J Brady Monday Bingo
DESCRIPTION:Bingo meets weekly on Monday’s except holidays. 50 cents per card. Caller: David Mayrand
URL:https://framinghamhousingauthority.org/calendar-event/monday-bingo/2024-01-08/
LOCATION:John J Brady Community Room\, 1 John J. Brady Drive\, Framingham\, MA\, 01702\, United States
CATEGORIES:John J Brady
END:VEVENT
BEGIN:VEVENT
DTSTART;TZID=America/New_York:20240101T130000
DTEND;TZID=America/New_York:20240101T150000
DTSTAMP:20260422T124536
CREATED:20190606T164737Z
LAST-MODIFIED:20190610T140652Z
UID:10002419-1704114000-1704121200@framinghamhousingauthority.org
SUMMARY:John J Brady Monday Bingo
DESCRIPTION:Bingo meets weekly on Monday’s except holidays. 50 cents per card. Caller: David Mayrand
URL:https://framinghamhousingauthority.org/calendar-event/monday-bingo/2024-01-01/
LOCATION:John J Brady Community Room\, 1 John J. Brady Drive\, Framingham\, MA\, 01702\, United States
CATEGORIES:John J Brady
END:VEVENT
BEGIN:VEVENT
DTSTART;TZID=America/New_York:20231225T130000
DTEND;TZID=America/New_York:20231225T150000
DTSTAMP:20260422T124536
CREATED:20190606T164737Z
LAST-MODIFIED:20190610T140652Z
UID:10002418-1703509200-1703516400@framinghamhousingauthority.org
SUMMARY:John J Brady Monday Bingo
DESCRIPTION:Bingo meets weekly on Monday’s except holidays. 50 cents per card. Caller: David Mayrand
URL:https://framinghamhousingauthority.org/calendar-event/monday-bingo/2023-12-25/
LOCATION:John J Brady Community Room\, 1 John J. Brady Drive\, Framingham\, MA\, 01702\, United States
CATEGORIES:John J Brady
END:VEVENT
BEGIN:VEVENT
DTSTART;TZID=America/New_York:20231218T130000
DTEND;TZID=America/New_York:20231218T150000
DTSTAMP:20260422T124536
CREATED:20190606T164737Z
LAST-MODIFIED:20190610T140652Z
UID:10002417-1702904400-1702911600@framinghamhousingauthority.org
SUMMARY:John J Brady Monday Bingo
DESCRIPTION:Bingo meets weekly on Monday’s except holidays. 50 cents per card. Caller: David Mayrand
URL:https://framinghamhousingauthority.org/calendar-event/monday-bingo/2023-12-18/
LOCATION:John J Brady Community Room\, 1 John J. Brady Drive\, Framingham\, MA\, 01702\, United States
CATEGORIES:John J Brady
END:VEVENT
BEGIN:VEVENT
DTSTART;TZID=America/New_York:20231211T130000
DTEND;TZID=America/New_York:20231211T150000
DTSTAMP:20260422T124536
CREATED:20190606T164737Z
LAST-MODIFIED:20190610T140652Z
UID:10002416-1702299600-1702306800@framinghamhousingauthority.org
SUMMARY:John J Brady Monday Bingo
DESCRIPTION:Bingo meets weekly on Monday’s except holidays. 50 cents per card. Caller: David Mayrand
URL:https://framinghamhousingauthority.org/calendar-event/monday-bingo/2023-12-11/
LOCATION:John J Brady Community Room\, 1 John J. Brady Drive\, Framingham\, MA\, 01702\, United States
CATEGORIES:John J Brady
END:VEVENT
BEGIN:VEVENT
DTSTART;TZID=America/New_York:20231204T130000
DTEND;TZID=America/New_York:20231204T150000
DTSTAMP:20260422T124536
CREATED:20190606T164737Z
LAST-MODIFIED:20190610T140652Z
UID:10002415-1701694800-1701702000@framinghamhousingauthority.org
SUMMARY:John J Brady Monday Bingo
DESCRIPTION:Bingo meets weekly on Monday’s except holidays. 50 cents per card. Caller: David Mayrand
URL:https://framinghamhousingauthority.org/calendar-event/monday-bingo/2023-12-04/
LOCATION:John J Brady Community Room\, 1 John J. Brady Drive\, Framingham\, MA\, 01702\, United States
CATEGORIES:John J Brady
END:VEVENT
BEGIN:VEVENT
DTSTART;TZID=America/New_York:20231127T130000
DTEND;TZID=America/New_York:20231127T150000
DTSTAMP:20260422T124536
CREATED:20190606T164737Z
LAST-MODIFIED:20190610T140652Z
UID:10002414-1701090000-1701097200@framinghamhousingauthority.org
SUMMARY:John J Brady Monday Bingo
DESCRIPTION:Bingo meets weekly on Monday’s except holidays. 50 cents per card. Caller: David Mayrand
URL:https://framinghamhousingauthority.org/calendar-event/monday-bingo/2023-11-27/
LOCATION:John J Brady Community Room\, 1 John J. Brady Drive\, Framingham\, MA\, 01702\, United States
CATEGORIES:John J Brady
END:VEVENT
BEGIN:VEVENT
DTSTART;TZID=America/New_York:20231120T130000
DTEND;TZID=America/New_York:20231120T150000
DTSTAMP:20260422T124536
CREATED:20190606T164737Z
LAST-MODIFIED:20190610T140652Z
UID:10002413-1700485200-1700492400@framinghamhousingauthority.org
SUMMARY:John J Brady Monday Bingo
DESCRIPTION:Bingo meets weekly on Monday’s except holidays. 50 cents per card. Caller: David Mayrand
URL:https://framinghamhousingauthority.org/calendar-event/monday-bingo/2023-11-20/
LOCATION:John J Brady Community Room\, 1 John J. Brady Drive\, Framingham\, MA\, 01702\, United States
CATEGORIES:John J Brady
END:VEVENT
BEGIN:VEVENT
DTSTART;TZID=America/New_York:20231113T130000
DTEND;TZID=America/New_York:20231113T150000
DTSTAMP:20260422T124536
CREATED:20190606T164737Z
LAST-MODIFIED:20190610T140652Z
UID:10002412-1699880400-1699887600@framinghamhousingauthority.org
SUMMARY:John J Brady Monday Bingo
DESCRIPTION:Bingo meets weekly on Monday’s except holidays. 50 cents per card. Caller: David Mayrand
URL:https://framinghamhousingauthority.org/calendar-event/monday-bingo/2023-11-13/
LOCATION:John J Brady Community Room\, 1 John J. Brady Drive\, Framingham\, MA\, 01702\, United States
CATEGORIES:John J Brady
END:VEVENT
BEGIN:VEVENT
DTSTART;TZID=America/New_York:20231106T130000
DTEND;TZID=America/New_York:20231106T150000
DTSTAMP:20260422T124536
CREATED:20190606T164737Z
LAST-MODIFIED:20190610T140652Z
UID:10002411-1699275600-1699282800@framinghamhousingauthority.org
SUMMARY:John J Brady Monday Bingo
DESCRIPTION:Bingo meets weekly on Monday’s except holidays. 50 cents per card. Caller: David Mayrand
URL:https://framinghamhousingauthority.org/calendar-event/monday-bingo/2023-11-06/
LOCATION:John J Brady Community Room\, 1 John J. Brady Drive\, Framingham\, MA\, 01702\, United States
CATEGORIES:John J Brady
END:VEVENT
BEGIN:VEVENT
DTSTART;TZID=America/New_York:20231030T130000
DTEND;TZID=America/New_York:20231030T150000
DTSTAMP:20260422T124536
CREATED:20190606T164737Z
LAST-MODIFIED:20190610T140652Z
UID:10002410-1698670800-1698678000@framinghamhousingauthority.org
SUMMARY:John J Brady Monday Bingo
DESCRIPTION:Bingo meets weekly on Monday’s except holidays. 50 cents per card. Caller: David Mayrand
URL:https://framinghamhousingauthority.org/calendar-event/monday-bingo/2023-10-30/
LOCATION:John J Brady Community Room\, 1 John J. Brady Drive\, Framingham\, MA\, 01702\, United States
CATEGORIES:John J Brady
END:VEVENT
BEGIN:VEVENT
DTSTART;TZID=America/New_York:20231023T130000
DTEND;TZID=America/New_York:20231023T150000
DTSTAMP:20260422T124536
CREATED:20190606T164737Z
LAST-MODIFIED:20190610T140652Z
UID:10002409-1698066000-1698073200@framinghamhousingauthority.org
SUMMARY:John J Brady Monday Bingo
DESCRIPTION:Bingo meets weekly on Monday’s except holidays. 50 cents per card. Caller: David Mayrand
URL:https://framinghamhousingauthority.org/calendar-event/monday-bingo/2023-10-23/
LOCATION:John J Brady Community Room\, 1 John J. Brady Drive\, Framingham\, MA\, 01702\, United States
CATEGORIES:John J Brady
END:VEVENT
BEGIN:VEVENT
DTSTART;TZID=America/New_York:20231016T130000
DTEND;TZID=America/New_York:20231016T150000
DTSTAMP:20260422T124536
CREATED:20190606T164737Z
LAST-MODIFIED:20190610T140652Z
UID:10002408-1697461200-1697468400@framinghamhousingauthority.org
SUMMARY:John J Brady Monday Bingo
DESCRIPTION:Bingo meets weekly on Monday’s except holidays. 50 cents per card. Caller: David Mayrand
URL:https://framinghamhousingauthority.org/calendar-event/monday-bingo/2023-10-16/
LOCATION:John J Brady Community Room\, 1 John J. Brady Drive\, Framingham\, MA\, 01702\, United States
CATEGORIES:John J Brady
END:VEVENT
BEGIN:VEVENT
DTSTART;TZID=America/New_York:20231009T130000
DTEND;TZID=America/New_York:20231009T150000
DTSTAMP:20260422T124536
CREATED:20190606T164737Z
LAST-MODIFIED:20190610T140652Z
UID:10002407-1696856400-1696863600@framinghamhousingauthority.org
SUMMARY:John J Brady Monday Bingo
DESCRIPTION:Bingo meets weekly on Monday’s except holidays. 50 cents per card. Caller: David Mayrand
URL:https://framinghamhousingauthority.org/calendar-event/monday-bingo/2023-10-09/
LOCATION:John J Brady Community Room\, 1 John J. Brady Drive\, Framingham\, MA\, 01702\, United States
CATEGORIES:John J Brady
END:VEVENT
BEGIN:VEVENT
DTSTART;TZID=America/New_York:20231002T130000
DTEND;TZID=America/New_York:20231002T150000
DTSTAMP:20260422T124536
CREATED:20190606T164737Z
LAST-MODIFIED:20190610T140652Z
UID:10002406-1696251600-1696258800@framinghamhousingauthority.org
SUMMARY:John J Brady Monday Bingo
DESCRIPTION:Bingo meets weekly on Monday’s except holidays. 50 cents per card. Caller: David Mayrand
URL:https://framinghamhousingauthority.org/calendar-event/monday-bingo/2023-10-02/
LOCATION:John J Brady Community Room\, 1 John J. Brady Drive\, Framingham\, MA\, 01702\, United States
CATEGORIES:John J Brady
END:VEVENT
END:VCALENDAR